BEGIN:VCALENDAR
VERSION:2.0
PRODID:-//The Church of the Holy Trinity - ECPv6.8.0//NONSGML v1.0//EN
CALSCALE:GREGORIAN
METHOD:PUBLISH
X-ORIGINAL-URL:https://churchoftheholytrinity.org
X-WR-CALDESC:Events for The Church of the Holy Trinity
REFRESH-INTERVAL;VALUE=DURATION:PT1H
X-Robots-Tag:noindex
X-PUBLISHED-TTL:PT1H
BEGIN:VTIMEZONE
TZID:America/Chicago
BEGIN:DAYLIGHT
TZOFFSETFROM:-0600
TZOFFSETTO:-0500
TZNAME:CDT
DTSTART:20260308T080000
END:DAYLIGHT
BEGIN:STANDARD
TZOFFSETFROM:-0500
TZOFFSETTO:-0600
TZNAME:CST
DTSTART:20261101T070000
END:STANDARD
END:VTIMEZONE
BEGIN:VEVENT
DTSTART;TZID=America/Chicago:20260421T130000
DTEND;TZID=America/Chicago:20260421T140000
DTSTAMP:20260421T093546
CREATED:20240303T214412Z
LAST-MODIFIED:20240303T214412Z
UID:10002354-1776776400-1776780000@churchoftheholytrinity.org
SUMMARY:After Lunch Bunch (Ladies Group)
DESCRIPTION:Prayer/fellowship group for ladies which gathers ‘after lunch’ at 1pm.
URL:https://churchoftheholytrinity.org/event/after-lunch-bunch-ladies-group/2026-04-21/
LOCATION:Church of the Holy Trinity Chapel\, 900 South St\, Vicksburg\, MS\, 39180\, United States
CATEGORIES:Parish Calendar
END:VEVENT
BEGIN:VEVENT
DTSTART;TZID=America/Chicago:20260428T130000
DTEND;TZID=America/Chicago:20260428T140000
DTSTAMP:20260421T093546
CREATED:20240303T214412Z
LAST-MODIFIED:20240303T214412Z
UID:10002355-1777381200-1777384800@churchoftheholytrinity.org
SUMMARY:After Lunch Bunch (Ladies Group)
DESCRIPTION:Prayer/fellowship group for ladies which gathers ‘after lunch’ at 1pm.
URL:https://churchoftheholytrinity.org/event/after-lunch-bunch-ladies-group/2026-04-28/
LOCATION:Church of the Holy Trinity Chapel\, 900 South St\, Vicksburg\, MS\, 39180\, United States
CATEGORIES:Parish Calendar
END:VEVENT
BEGIN:VEVENT
DTSTART;TZID=America/Chicago:20260505T130000
DTEND;TZID=America/Chicago:20260505T140000
DTSTAMP:20260421T093546
CREATED:20240303T214412Z
LAST-MODIFIED:20240303T214412Z
UID:10002356-1777986000-1777989600@churchoftheholytrinity.org
SUMMARY:After Lunch Bunch (Ladies Group)
DESCRIPTION:Prayer/fellowship group for ladies which gathers ‘after lunch’ at 1pm.
URL:https://churchoftheholytrinity.org/event/after-lunch-bunch-ladies-group/2026-05-05/
LOCATION:Church of the Holy Trinity Chapel\, 900 South St\, Vicksburg\, MS\, 39180\, United States
CATEGORIES:Parish Calendar
END:VEVENT
BEGIN:VEVENT
DTSTART;TZID=America/Chicago:20260512T130000
DTEND;TZID=America/Chicago:20260512T140000
DTSTAMP:20260421T093546
CREATED:20240303T214412Z
LAST-MODIFIED:20240303T214412Z
UID:10002357-1778590800-1778594400@churchoftheholytrinity.org
SUMMARY:After Lunch Bunch (Ladies Group)
DESCRIPTION:Prayer/fellowship group for ladies which gathers ‘after lunch’ at 1pm.
URL:https://churchoftheholytrinity.org/event/after-lunch-bunch-ladies-group/2026-05-12/
LOCATION:Church of the Holy Trinity Chapel\, 900 South St\, Vicksburg\, MS\, 39180\, United States
CATEGORIES:Parish Calendar
END:VEVENT
BEGIN:VEVENT
DTSTART;TZID=America/Chicago:20260512T170000
DTEND;TZID=America/Chicago:20260512T180000
DTSTAMP:20260421T093546
CREATED:20240418T162125Z
LAST-MODIFIED:20240418T162344Z
UID:10002532-1778605200-1778608800@churchoftheholytrinity.org
SUMMARY:5pm Daughters of the King
DESCRIPTION:
URL:https://churchoftheholytrinity.org/event/5pm-daughters-of-the-king-2/2026-05-12/
LOCATION:Church of the Holy Trinity Chapel\, 900 South St\, Vicksburg\, MS\, 39180\, United States
CATEGORIES:Parish Calendar
END:VEVENT
BEGIN:VEVENT
DTSTART;TZID=America/Chicago:20260519T130000
DTEND;TZID=America/Chicago:20260519T140000
DTSTAMP:20260421T093546
CREATED:20240303T214412Z
LAST-MODIFIED:20240303T214412Z
UID:10002358-1779195600-1779199200@churchoftheholytrinity.org
SUMMARY:After Lunch Bunch (Ladies Group)
DESCRIPTION:Prayer/fellowship group for ladies which gathers ‘after lunch’ at 1pm.
URL:https://churchoftheholytrinity.org/event/after-lunch-bunch-ladies-group/2026-05-19/
LOCATION:Church of the Holy Trinity Chapel\, 900 South St\, Vicksburg\, MS\, 39180\, United States
CATEGORIES:Parish Calendar
END:VEVENT
BEGIN:VEVENT
DTSTART;TZID=America/Chicago:20260526T130000
DTEND;TZID=America/Chicago:20260526T140000
DTSTAMP:20260421T093546
CREATED:20240303T214412Z
LAST-MODIFIED:20240303T214412Z
UID:10002359-1779800400-1779804000@churchoftheholytrinity.org
SUMMARY:After Lunch Bunch (Ladies Group)
DESCRIPTION:Prayer/fellowship group for ladies which gathers ‘after lunch’ at 1pm.
URL:https://churchoftheholytrinity.org/event/after-lunch-bunch-ladies-group/2026-05-26/
LOCATION:Church of the Holy Trinity Chapel\, 900 South St\, Vicksburg\, MS\, 39180\, United States
CATEGORIES:Parish Calendar
END:VEVENT
BEGIN:VEVENT
DTSTART;TZID=America/Chicago:20260602T130000
DTEND;TZID=America/Chicago:20260602T140000
DTSTAMP:20260421T093546
CREATED:20240303T214412Z
LAST-MODIFIED:20240303T214412Z
UID:10002360-1780405200-1780408800@churchoftheholytrinity.org
SUMMARY:After Lunch Bunch (Ladies Group)
DESCRIPTION:Prayer/fellowship group for ladies which gathers ‘after lunch’ at 1pm.
URL:https://churchoftheholytrinity.org/event/after-lunch-bunch-ladies-group/2026-06-02/
LOCATION:Church of the Holy Trinity Chapel\, 900 South St\, Vicksburg\, MS\, 39180\, United States
CATEGORIES:Parish Calendar
END:VEVENT
BEGIN:VEVENT
DTSTART;TZID=America/Chicago:20260609T130000
DTEND;TZID=America/Chicago:20260609T140000
DTSTAMP:20260421T093546
CREATED:20240303T214412Z
LAST-MODIFIED:20240303T214412Z
UID:10002361-1781010000-1781013600@churchoftheholytrinity.org
SUMMARY:After Lunch Bunch (Ladies Group)
DESCRIPTION:Prayer/fellowship group for ladies which gathers ‘after lunch’ at 1pm.
URL:https://churchoftheholytrinity.org/event/after-lunch-bunch-ladies-group/2026-06-09/
LOCATION:Church of the Holy Trinity Chapel\, 900 South St\, Vicksburg\, MS\, 39180\, United States
CATEGORIES:Parish Calendar
END:VEVENT
BEGIN:VEVENT
DTSTART;TZID=America/Chicago:20260609T170000
DTEND;TZID=America/Chicago:20260609T180000
DTSTAMP:20260421T093546
CREATED:20240418T162125Z
LAST-MODIFIED:20240418T162344Z
UID:10002533-1781024400-1781028000@churchoftheholytrinity.org
SUMMARY:5pm Daughters of the King
DESCRIPTION:
URL:https://churchoftheholytrinity.org/event/5pm-daughters-of-the-king-2/2026-06-09/
LOCATION:Church of the Holy Trinity Chapel\, 900 South St\, Vicksburg\, MS\, 39180\, United States
CATEGORIES:Parish Calendar
END:VEVENT
BEGIN:VEVENT
DTSTART;TZID=America/Chicago:20260616T130000
DTEND;TZID=America/Chicago:20260616T140000
DTSTAMP:20260421T093546
CREATED:20240303T214412Z
LAST-MODIFIED:20240303T214412Z
UID:10002362-1781614800-1781618400@churchoftheholytrinity.org
SUMMARY:After Lunch Bunch (Ladies Group)
DESCRIPTION:Prayer/fellowship group for ladies which gathers ‘after lunch’ at 1pm.
URL:https://churchoftheholytrinity.org/event/after-lunch-bunch-ladies-group/2026-06-16/
LOCATION:Church of the Holy Trinity Chapel\, 900 South St\, Vicksburg\, MS\, 39180\, United States
CATEGORIES:Parish Calendar
END:VEVENT
BEGIN:VEVENT
DTSTART;TZID=America/Chicago:20260623T130000
DTEND;TZID=America/Chicago:20260623T140000
DTSTAMP:20260421T093546
CREATED:20240303T214412Z
LAST-MODIFIED:20240303T214412Z
UID:10002363-1782219600-1782223200@churchoftheholytrinity.org
SUMMARY:After Lunch Bunch (Ladies Group)
DESCRIPTION:Prayer/fellowship group for ladies which gathers ‘after lunch’ at 1pm.
URL:https://churchoftheholytrinity.org/event/after-lunch-bunch-ladies-group/2026-06-23/
LOCATION:Church of the Holy Trinity Chapel\, 900 South St\, Vicksburg\, MS\, 39180\, United States
CATEGORIES:Parish Calendar
END:VEVENT
BEGIN:VEVENT
DTSTART;TZID=America/Chicago:20260630T130000
DTEND;TZID=America/Chicago:20260630T140000
DTSTAMP:20260421T093546
CREATED:20240303T214412Z
LAST-MODIFIED:20240303T214412Z
UID:10002364-1782824400-1782828000@churchoftheholytrinity.org
SUMMARY:After Lunch Bunch (Ladies Group)
DESCRIPTION:Prayer/fellowship group for ladies which gathers ‘after lunch’ at 1pm.
URL:https://churchoftheholytrinity.org/event/after-lunch-bunch-ladies-group/2026-06-30/
LOCATION:Church of the Holy Trinity Chapel\, 900 South St\, Vicksburg\, MS\, 39180\, United States
CATEGORIES:Parish Calendar
END:VEVENT
BEGIN:VEVENT
DTSTART;TZID=America/Chicago:20260707T130000
DTEND;TZID=America/Chicago:20260707T140000
DTSTAMP:20260421T093546
CREATED:20240303T214412Z
LAST-MODIFIED:20240303T214412Z
UID:10002365-1783429200-1783432800@churchoftheholytrinity.org
SUMMARY:After Lunch Bunch (Ladies Group)
DESCRIPTION:Prayer/fellowship group for ladies which gathers ‘after lunch’ at 1pm.
URL:https://churchoftheholytrinity.org/event/after-lunch-bunch-ladies-group/2026-07-07/
LOCATION:Church of the Holy Trinity Chapel\, 900 South St\, Vicksburg\, MS\, 39180\, United States
CATEGORIES:Parish Calendar
END:VEVENT
BEGIN:VEVENT
DTSTART;TZID=America/Chicago:20260714T130000
DTEND;TZID=America/Chicago:20260714T140000
DTSTAMP:20260421T093546
CREATED:20240303T214412Z
LAST-MODIFIED:20240303T214412Z
UID:10002366-1784034000-1784037600@churchoftheholytrinity.org
SUMMARY:After Lunch Bunch (Ladies Group)
DESCRIPTION:Prayer/fellowship group for ladies which gathers ‘after lunch’ at 1pm.
URL:https://churchoftheholytrinity.org/event/after-lunch-bunch-ladies-group/2026-07-14/
LOCATION:Church of the Holy Trinity Chapel\, 900 South St\, Vicksburg\, MS\, 39180\, United States
CATEGORIES:Parish Calendar
END:VEVENT
BEGIN:VEVENT
DTSTART;TZID=America/Chicago:20260714T170000
DTEND;TZID=America/Chicago:20260714T180000
DTSTAMP:20260421T093546
CREATED:20240418T162125Z
LAST-MODIFIED:20240418T162344Z
UID:10002534-1784048400-1784052000@churchoftheholytrinity.org
SUMMARY:5pm Daughters of the King
DESCRIPTION:
URL:https://churchoftheholytrinity.org/event/5pm-daughters-of-the-king-2/2026-07-14/
LOCATION:Church of the Holy Trinity Chapel\, 900 South St\, Vicksburg\, MS\, 39180\, United States
CATEGORIES:Parish Calendar
END:VEVENT
BEGIN:VEVENT
DTSTART;TZID=America/Chicago:20260721T130000
DTEND;TZID=America/Chicago:20260721T140000
DTSTAMP:20260421T093546
CREATED:20240303T214412Z
LAST-MODIFIED:20240303T214412Z
UID:10002367-1784638800-1784642400@churchoftheholytrinity.org
SUMMARY:After Lunch Bunch (Ladies Group)
DESCRIPTION:Prayer/fellowship group for ladies which gathers ‘after lunch’ at 1pm.
URL:https://churchoftheholytrinity.org/event/after-lunch-bunch-ladies-group/2026-07-21/
LOCATION:Church of the Holy Trinity Chapel\, 900 South St\, Vicksburg\, MS\, 39180\, United States
CATEGORIES:Parish Calendar
END:VEVENT
BEGIN:VEVENT
DTSTART;TZID=America/Chicago:20260728T130000
DTEND;TZID=America/Chicago:20260728T140000
DTSTAMP:20260421T093546
CREATED:20240303T214412Z
LAST-MODIFIED:20240303T214412Z
UID:10002368-1785243600-1785247200@churchoftheholytrinity.org
SUMMARY:After Lunch Bunch (Ladies Group)
DESCRIPTION:Prayer/fellowship group for ladies which gathers ‘after lunch’ at 1pm.
URL:https://churchoftheholytrinity.org/event/after-lunch-bunch-ladies-group/2026-07-28/
LOCATION:Church of the Holy Trinity Chapel\, 900 South St\, Vicksburg\, MS\, 39180\, United States
CATEGORIES:Parish Calendar
END:VEVENT
BEGIN:VEVENT
DTSTART;TZID=America/Chicago:20260804T130000
DTEND;TZID=America/Chicago:20260804T140000
DTSTAMP:20260421T093546
CREATED:20240303T214412Z
LAST-MODIFIED:20240303T214412Z
UID:10002369-1785848400-1785852000@churchoftheholytrinity.org
SUMMARY:After Lunch Bunch (Ladies Group)
DESCRIPTION:Prayer/fellowship group for ladies which gathers ‘after lunch’ at 1pm.
URL:https://churchoftheholytrinity.org/event/after-lunch-bunch-ladies-group/2026-08-04/
LOCATION:Church of the Holy Trinity Chapel\, 900 South St\, Vicksburg\, MS\, 39180\, United States
CATEGORIES:Parish Calendar
END:VEVENT
BEGIN:VEVENT
DTSTART;TZID=America/Chicago:20260811T130000
DTEND;TZID=America/Chicago:20260811T140000
DTSTAMP:20260421T093546
CREATED:20240303T214412Z
LAST-MODIFIED:20240303T214412Z
UID:10002370-1786453200-1786456800@churchoftheholytrinity.org
SUMMARY:After Lunch Bunch (Ladies Group)
DESCRIPTION:Prayer/fellowship group for ladies which gathers ‘after lunch’ at 1pm.
URL:https://churchoftheholytrinity.org/event/after-lunch-bunch-ladies-group/2026-08-11/
LOCATION:Church of the Holy Trinity Chapel\, 900 South St\, Vicksburg\, MS\, 39180\, United States
CATEGORIES:Parish Calendar
END:VEVENT
BEGIN:VEVENT
DTSTART;TZID=America/Chicago:20260811T170000
DTEND;TZID=America/Chicago:20260811T180000
DTSTAMP:20260421T093546
CREATED:20240418T162125Z
LAST-MODIFIED:20240418T162344Z
UID:10002535-1786467600-1786471200@churchoftheholytrinity.org
SUMMARY:5pm Daughters of the King
DESCRIPTION:
URL:https://churchoftheholytrinity.org/event/5pm-daughters-of-the-king-2/2026-08-11/
LOCATION:Church of the Holy Trinity Chapel\, 900 South St\, Vicksburg\, MS\, 39180\, United States
CATEGORIES:Parish Calendar
END:VEVENT
BEGIN:VEVENT
DTSTART;TZID=America/Chicago:20260818T130000
DTEND;TZID=America/Chicago:20260818T140000
DTSTAMP:20260421T093546
CREATED:20240303T214412Z
LAST-MODIFIED:20240303T214412Z
UID:10002371-1787058000-1787061600@churchoftheholytrinity.org
SUMMARY:After Lunch Bunch (Ladies Group)
DESCRIPTION:Prayer/fellowship group for ladies which gathers ‘after lunch’ at 1pm.
URL:https://churchoftheholytrinity.org/event/after-lunch-bunch-ladies-group/2026-08-18/
LOCATION:Church of the Holy Trinity Chapel\, 900 South St\, Vicksburg\, MS\, 39180\, United States
CATEGORIES:Parish Calendar
END:VEVENT
BEGIN:VEVENT
DTSTART;TZID=America/Chicago:20260825T130000
DTEND;TZID=America/Chicago:20260825T140000
DTSTAMP:20260421T093546
CREATED:20240303T214412Z
LAST-MODIFIED:20240303T214412Z
UID:10002372-1787662800-1787666400@churchoftheholytrinity.org
SUMMARY:After Lunch Bunch (Ladies Group)
DESCRIPTION:Prayer/fellowship group for ladies which gathers ‘after lunch’ at 1pm.
URL:https://churchoftheholytrinity.org/event/after-lunch-bunch-ladies-group/2026-08-25/
LOCATION:Church of the Holy Trinity Chapel\, 900 South St\, Vicksburg\, MS\, 39180\, United States
CATEGORIES:Parish Calendar
END:VEVENT
BEGIN:VEVENT
DTSTART;TZID=America/Chicago:20260901T130000
DTEND;TZID=America/Chicago:20260901T140000
DTSTAMP:20260421T093546
CREATED:20240303T214412Z
LAST-MODIFIED:20240303T214412Z
UID:10002373-1788267600-1788271200@churchoftheholytrinity.org
SUMMARY:After Lunch Bunch (Ladies Group)
DESCRIPTION:Prayer/fellowship group for ladies which gathers ‘after lunch’ at 1pm.
URL:https://churchoftheholytrinity.org/event/after-lunch-bunch-ladies-group/2026-09-01/
LOCATION:Church of the Holy Trinity Chapel\, 900 South St\, Vicksburg\, MS\, 39180\, United States
CATEGORIES:Parish Calendar
END:VEVENT
BEGIN:VEVENT
DTSTART;TZID=America/Chicago:20260908T130000
DTEND;TZID=America/Chicago:20260908T140000
DTSTAMP:20260421T093546
CREATED:20240303T214412Z
LAST-MODIFIED:20240303T214412Z
UID:10002374-1788872400-1788876000@churchoftheholytrinity.org
SUMMARY:After Lunch Bunch (Ladies Group)
DESCRIPTION:Prayer/fellowship group for ladies which gathers ‘after lunch’ at 1pm.
URL:https://churchoftheholytrinity.org/event/after-lunch-bunch-ladies-group/2026-09-08/
LOCATION:Church of the Holy Trinity Chapel\, 900 South St\, Vicksburg\, MS\, 39180\, United States
CATEGORIES:Parish Calendar
END:VEVENT
BEGIN:VEVENT
DTSTART;TZID=America/Chicago:20260908T170000
DTEND;TZID=America/Chicago:20260908T180000
DTSTAMP:20260421T093546
CREATED:20240418T162125Z
LAST-MODIFIED:20240418T162344Z
UID:10002536-1788886800-1788890400@churchoftheholytrinity.org
SUMMARY:5pm Daughters of the King
DESCRIPTION:
URL:https://churchoftheholytrinity.org/event/5pm-daughters-of-the-king-2/2026-09-08/
LOCATION:Church of the Holy Trinity Chapel\, 900 South St\, Vicksburg\, MS\, 39180\, United States
CATEGORIES:Parish Calendar
END:VEVENT
BEGIN:VEVENT
DTSTART;TZID=America/Chicago:20260915T130000
DTEND;TZID=America/Chicago:20260915T140000
DTSTAMP:20260421T093546
CREATED:20240303T214412Z
LAST-MODIFIED:20240303T214412Z
UID:10002375-1789477200-1789480800@churchoftheholytrinity.org
SUMMARY:After Lunch Bunch (Ladies Group)
DESCRIPTION:Prayer/fellowship group for ladies which gathers ‘after lunch’ at 1pm.
URL:https://churchoftheholytrinity.org/event/after-lunch-bunch-ladies-group/2026-09-15/
LOCATION:Church of the Holy Trinity Chapel\, 900 South St\, Vicksburg\, MS\, 39180\, United States
CATEGORIES:Parish Calendar
END:VEVENT
BEGIN:VEVENT
DTSTART;TZID=America/Chicago:20260922T130000
DTEND;TZID=America/Chicago:20260922T140000
DTSTAMP:20260421T093546
CREATED:20240303T214412Z
LAST-MODIFIED:20240303T214412Z
UID:10002376-1790082000-1790085600@churchoftheholytrinity.org
SUMMARY:After Lunch Bunch (Ladies Group)
DESCRIPTION:Prayer/fellowship group for ladies which gathers ‘after lunch’ at 1pm.
URL:https://churchoftheholytrinity.org/event/after-lunch-bunch-ladies-group/2026-09-22/
LOCATION:Church of the Holy Trinity Chapel\, 900 South St\, Vicksburg\, MS\, 39180\, United States
CATEGORIES:Parish Calendar
END:VEVENT
BEGIN:VEVENT
DTSTART;TZID=America/Chicago:20260929T130000
DTEND;TZID=America/Chicago:20260929T140000
DTSTAMP:20260421T093546
CREATED:20240303T214412Z
LAST-MODIFIED:20240303T214412Z
UID:10002377-1790686800-1790690400@churchoftheholytrinity.org
SUMMARY:After Lunch Bunch (Ladies Group)
DESCRIPTION:Prayer/fellowship group for ladies which gathers ‘after lunch’ at 1pm.
URL:https://churchoftheholytrinity.org/event/after-lunch-bunch-ladies-group/2026-09-29/
LOCATION:Church of the Holy Trinity Chapel\, 900 South St\, Vicksburg\, MS\, 39180\, United States
CATEGORIES:Parish Calendar
END:VEVENT
BEGIN:VEVENT
DTSTART;TZID=America/Chicago:20261006T130000
DTEND;TZID=America/Chicago:20261006T140000
DTSTAMP:20260421T093546
CREATED:20240303T214412Z
LAST-MODIFIED:20240303T214412Z
UID:10002378-1791291600-1791295200@churchoftheholytrinity.org
SUMMARY:After Lunch Bunch (Ladies Group)
DESCRIPTION:Prayer/fellowship group for ladies which gathers ‘after lunch’ at 1pm.
URL:https://churchoftheholytrinity.org/event/after-lunch-bunch-ladies-group/2026-10-06/
LOCATION:Church of the Holy Trinity Chapel\, 900 South St\, Vicksburg\, MS\, 39180\, United States
CATEGORIES:Parish Calendar
END:VEVENT
END:VCALENDAR