BEGIN:VCALENDAR
VERSION:2.0
PRODID:-//The Church of the Holy Trinity - ECPv6.8.0//NONSGML v1.0//EN
CALSCALE:GREGORIAN
METHOD:PUBLISH
X-WR-CALNAME:The Church of the Holy Trinity
X-ORIGINAL-URL:https://churchoftheholytrinity.org
X-WR-CALDESC:Events for The Church of the Holy Trinity
REFRESH-INTERVAL;VALUE=DURATION:PT1H
X-Robots-Tag:noindex
X-PUBLISHED-TTL:PT1H
BEGIN:VTIMEZONE
TZID:America/Chicago
BEGIN:DAYLIGHT
TZOFFSETFROM:-0600
TZOFFSETTO:-0500
TZNAME:CDT
DTSTART:20250309T080000
END:DAYLIGHT
BEGIN:STANDARD
TZOFFSETFROM:-0500
TZOFFSETTO:-0600
TZNAME:CST
DTSTART:20251102T070000
END:STANDARD
END:VTIMEZONE
BEGIN:VEVENT
DTSTART;TZID=America/Chicago:20250902T130000
DTEND;TZID=America/Chicago:20250902T140000
DTSTAMP:20260423T082457
CREATED:20240303T214412Z
LAST-MODIFIED:20240303T214412Z
UID:10002321-1756818000-1756821600@churchoftheholytrinity.org
SUMMARY:After Lunch Bunch (Ladies Group)
DESCRIPTION:Prayer/fellowship group for ladies which gathers ‘after lunch’ at 1pm.
URL:https://churchoftheholytrinity.org/event/after-lunch-bunch-ladies-group/2025-09-02/
LOCATION:Church of the Holy Trinity Chapel\, 900 South St\, Vicksburg\, MS\, 39180\, United States
CATEGORIES:Parish Calendar
END:VEVENT
BEGIN:VEVENT
DTSTART;TZID=America/Chicago:20250831T101500
DTEND;TZID=America/Chicago:20250831T111500
DTSTAMP:20260423T082457
CREATED:20250808T145403Z
LAST-MODIFIED:20250808T145403Z
UID:10005057-1756635300-1756638900@churchoftheholytrinity.org
SUMMARY:10:15am Holy Eucharist - Bishop's visit
DESCRIPTION:10:15am Holy Eucharist in the Nave. Bishop Dorothy Wells presiding.
URL:https://churchoftheholytrinity.org/event/1015am-holy-eucharist-bishops-visit/
LOCATION:MS
CATEGORIES:Parish Calendar
END:VEVENT
BEGIN:VEVENT
DTSTART;TZID=America/Chicago:20250831T100000
DTEND;TZID=America/Chicago:20250831T120000
DTSTAMP:20260423T082457
CREATED:20250808T153859Z
LAST-MODIFIED:20250808T153901Z
UID:10002678-1756634400-1756641600@churchoftheholytrinity.org
SUMMARY:10:00am Church Nursery Opens
DESCRIPTION:Our Church Nursery is Staffed and Available to All Children 5 & Under Whose Parents Are Attending Our Services.
URL:https://churchoftheholytrinity.org/event/church-nursery-is-open-2/2025-08-31/
LOCATION:Church of the Holy Trinity Parish Hall\, 900 South St\, Vicksburg\, MS\, 39180\, United States
CATEGORIES:Parish Calendar
END:VEVENT
BEGIN:VEVENT
DTSTART;TZID=America/Chicago:20250826T130000
DTEND;TZID=America/Chicago:20250826T140000
DTSTAMP:20260423T082457
CREATED:20240303T214412Z
LAST-MODIFIED:20240303T214412Z
UID:10002320-1756213200-1756216800@churchoftheholytrinity.org
SUMMARY:After Lunch Bunch (Ladies Group)
DESCRIPTION:Prayer/fellowship group for ladies which gathers ‘after lunch’ at 1pm.
URL:https://churchoftheholytrinity.org/event/after-lunch-bunch-ladies-group/2025-08-26/
LOCATION:Church of the Holy Trinity Chapel\, 900 South St\, Vicksburg\, MS\, 39180\, United States
CATEGORIES:Parish Calendar
END:VEVENT
BEGIN:VEVENT
DTSTART;TZID=America/Chicago:20250824T101500
DTEND;TZID=America/Chicago:20250824T113000
DTSTAMP:20260423T082457
CREATED:20250808T145734Z
LAST-MODIFIED:20250808T145737Z
UID:10002952-1756030500-1756035000@churchoftheholytrinity.org
SUMMARY:10:15am Children's Sunday School
DESCRIPTION:During 10:15am Service\,   Children will gather upstairs with their leaders and return just prior to communion.  (Parents of 5 year-olds may choose whether to have their children attend Sunday School or Nursery).
URL:https://churchoftheholytrinity.org/event/childrens-church-1st-3rd-sundays-2-2-2/2025-08-24/
LOCATION:Church of the Holy Trinity Nave\, 900 South St\, Vicksburg\, MS\, 39180\, United States
CATEGORIES:Parish Calendar
END:VEVENT
BEGIN:VEVENT
DTSTART;TZID=America/Chicago:20250824T100000
DTEND;TZID=America/Chicago:20250824T120000
DTSTAMP:20260423T082457
CREATED:20250808T153859Z
LAST-MODIFIED:20250808T153901Z
UID:10002677-1756029600-1756036800@churchoftheholytrinity.org
SUMMARY:10:00am Church Nursery Opens
DESCRIPTION:Our Church Nursery is Staffed and Available to All Children 5 & Under Whose Parents Are Attending Our Services.
URL:https://churchoftheholytrinity.org/event/church-nursery-is-open-2/2025-08-24/
LOCATION:Church of the Holy Trinity Parish Hall\, 900 South St\, Vicksburg\, MS\, 39180\, United States
CATEGORIES:Parish Calendar
END:VEVENT
BEGIN:VEVENT
DTSTART;TZID=America/Chicago:20250824T090000
DTEND;TZID=America/Chicago:20250824T100000
DTSTAMP:20260423T082457
CREATED:20250714T183715Z
LAST-MODIFIED:20250714T183715Z
UID:10005056-1756026000-1756029600@churchoftheholytrinity.org
SUMMARY:9-10am - Tailgate Party
DESCRIPTION:Join us for a tailgate party between our two Sunday services! Come and support your favorite team\, bring your favorite tailgate dish\, and enjoy some fun and fellowship. The tailgate party will be from 9-10am in our parish hall.
URL:https://churchoftheholytrinity.org/event/9-10am-tailgate-party/
LOCATION:MS
END:VEVENT
BEGIN:VEVENT
DTSTART;TZID=America/Chicago:20250819T130000
DTEND;TZID=America/Chicago:20250819T140000
DTSTAMP:20260423T082457
CREATED:20240303T214412Z
LAST-MODIFIED:20240303T214412Z
UID:10002319-1755608400-1755612000@churchoftheholytrinity.org
SUMMARY:After Lunch Bunch (Ladies Group)
DESCRIPTION:Prayer/fellowship group for ladies which gathers ‘after lunch’ at 1pm.
URL:https://churchoftheholytrinity.org/event/after-lunch-bunch-ladies-group/2025-08-19/
LOCATION:Church of the Holy Trinity Chapel\, 900 South St\, Vicksburg\, MS\, 39180\, United States
CATEGORIES:Parish Calendar
END:VEVENT
BEGIN:VEVENT
DTSTART;TZID=America/Chicago:20250817T100000
DTEND;TZID=America/Chicago:20250817T130000
DTSTAMP:20260423T082457
CREATED:20250808T150001Z
LAST-MODIFIED:20250808T150001Z
UID:10005058-1755424800-1755435600@churchoftheholytrinity.org
SUMMARY:Share and Listen Potluck Lunch
DESCRIPTION:following the 9:00am service\, we will have a share and listen session with Rev. Gary Meade discussing our path forward as a church family as we begin the search for our next rector. Potluck style lunch will follow around noon.
URL:https://churchoftheholytrinity.org/event/share-and-listen-potluck-lunch/
LOCATION:MS
END:VEVENT
BEGIN:VEVENT
DTSTART;TZID=America/Chicago:20250817T090000
DTEND;TZID=America/Chicago:20250817T100000
DTSTAMP:20260423T082457
CREATED:20250714T173808Z
LAST-MODIFIED:20250808T145558Z
UID:10004886-1755421200-1755424800@churchoftheholytrinity.org
SUMMARY:9:00am Holy Eucharist
DESCRIPTION:We will have ONE service at 9:00am with The Rev. Gary Meade \n 
URL:https://churchoftheholytrinity.org/event/1015am-holy-eucharist-2/
LOCATION:MS
CATEGORIES:Parish Calendar
END:VEVENT
BEGIN:VEVENT
DTSTART;TZID=America/Chicago:20250813T173000
DTEND;TZID=America/Chicago:20250813T193000
DTSTAMP:20260423T082457
CREATED:20250516T174353Z
LAST-MODIFIED:20250516T174354Z
UID:10003128-1755106200-1755113400@churchoftheholytrinity.org
SUMMARY:Family Evenings!
DESCRIPTION:Every 2nd Wednesday of the Month!  We will gather at 5:30pm with music and visit\, eat\, and divide into age-appropriate groups for a program.
URL:https://churchoftheholytrinity.org/event/family-night-wonderful-wednesday-every-2nd-wednesday-2-2/2025-08-13/
LOCATION:MS
CATEGORIES:Parish Calendar
END:VEVENT
BEGIN:VEVENT
DTSTART;TZID=America/Chicago:20250812T170000
DTEND;TZID=America/Chicago:20250812T180000
DTSTAMP:20260423T082457
CREATED:20240418T162125Z
LAST-MODIFIED:20240418T162344Z
UID:10002523-1755018000-1755021600@churchoftheholytrinity.org
SUMMARY:5pm Daughters of the King
DESCRIPTION:
URL:https://churchoftheholytrinity.org/event/5pm-daughters-of-the-king-2/2025-08-12/
LOCATION:Church of the Holy Trinity Chapel\, 900 South St\, Vicksburg\, MS\, 39180\, United States
CATEGORIES:Parish Calendar
END:VEVENT
BEGIN:VEVENT
DTSTART;TZID=America/Chicago:20250812T130000
DTEND;TZID=America/Chicago:20250812T140000
DTSTAMP:20260423T082457
CREATED:20240303T214412Z
LAST-MODIFIED:20240303T214412Z
UID:10002318-1755003600-1755007200@churchoftheholytrinity.org
SUMMARY:After Lunch Bunch (Ladies Group)
DESCRIPTION:Prayer/fellowship group for ladies which gathers ‘after lunch’ at 1pm.
URL:https://churchoftheholytrinity.org/event/after-lunch-bunch-ladies-group/2025-08-12/
LOCATION:Church of the Holy Trinity Chapel\, 900 South St\, Vicksburg\, MS\, 39180\, United States
CATEGORIES:Parish Calendar
END:VEVENT
BEGIN:VEVENT
DTSTART;TZID=America/Chicago:20250810T100000
DTEND;TZID=America/Chicago:20250810T120000
DTSTAMP:20260423T082457
CREATED:20250808T153859Z
LAST-MODIFIED:20250808T153901Z
UID:10002675-1754820000-1754827200@churchoftheholytrinity.org
SUMMARY:10:00am Church Nursery Opens
DESCRIPTION:Our Church Nursery is Staffed and Available to All Children 5 & Under Whose Parents Are Attending Our Services.
URL:https://churchoftheholytrinity.org/event/church-nursery-is-open-2/2025-08-10/
LOCATION:Church of the Holy Trinity Parish Hall\, 900 South St\, Vicksburg\, MS\, 39180\, United States
CATEGORIES:Parish Calendar
END:VEVENT
BEGIN:VEVENT
DTSTART;TZID=America/Chicago:20250810T080000
DTEND;TZID=America/Chicago:20250810T090000
DTSTAMP:20260423T082457
CREATED:20250520T180633Z
LAST-MODIFIED:20250714T190236Z
UID:10004896-1754812800-1754816400@churchoftheholytrinity.org
SUMMARY:8:00am Morning Prayer
DESCRIPTION:8:00am Morning Prayer in the chapel
URL:https://churchoftheholytrinity.org/event/800am-morning-prayer-2/2025-08-10/
LOCATION:MS
END:VEVENT
BEGIN:VEVENT
DTSTART;TZID=America/Chicago:20250805T130000
DTEND;TZID=America/Chicago:20250805T140000
DTSTAMP:20260423T082457
CREATED:20240303T214412Z
LAST-MODIFIED:20240303T214412Z
UID:10002317-1754398800-1754402400@churchoftheholytrinity.org
SUMMARY:After Lunch Bunch (Ladies Group)
DESCRIPTION:Prayer/fellowship group for ladies which gathers ‘after lunch’ at 1pm.
URL:https://churchoftheholytrinity.org/event/after-lunch-bunch-ladies-group/2025-08-05/
LOCATION:Church of the Holy Trinity Chapel\, 900 South St\, Vicksburg\, MS\, 39180\, United States
CATEGORIES:Parish Calendar
END:VEVENT
BEGIN:VEVENT
DTSTART;TZID=America/Chicago:20250803T101500
DTEND;TZID=America/Chicago:20250803T113000
DTSTAMP:20260423T082457
CREATED:20250527T163036Z
LAST-MODIFIED:20250527T164006Z
UID:10002893-1754216100-1754220600@churchoftheholytrinity.org
SUMMARY:10:15am Children's Sunday School
DESCRIPTION:During 10:15am Service\,   Children will gather upstairs with their leaders and return just prior to communion.  (Parents of 5 year-olds may choose whether to have their children attend Sunday School or Nursery).
URL:https://churchoftheholytrinity.org/event/childrens-church-1st-3rd-sundays-2-2/2025-08-03/
LOCATION:Church of the Holy Trinity Nave\, 900 South St\, Vicksburg\, MS\, 39180\, United States
CATEGORIES:Parish Calendar
END:VEVENT
BEGIN:VEVENT
DTSTART;TZID=America/Chicago:20250803T100000
DTEND;TZID=America/Chicago:20250803T120000
DTSTAMP:20260423T082457
CREATED:20240725T151130Z
LAST-MODIFIED:20250808T153037Z
UID:10002674-1754215200-1754222400@churchoftheholytrinity.org
SUMMARY:10:00am Church Nursery Opens
DESCRIPTION:Our Church Nursery is Staffed and Available to All Children 5 & Under Whose Parents Are Attending Our Services.
URL:https://churchoftheholytrinity.org/event/church-nursery-is-open/2025-08-03/
LOCATION:Church of the Holy Trinity Parish Hall\, 900 South St\, Vicksburg\, MS\, 39180\, United States
CATEGORIES:Parish Calendar
END:VEVENT
BEGIN:VEVENT
DTSTART;TZID=America/Chicago:20250803T080000
DTEND;TZID=America/Chicago:20250803T090000
DTSTAMP:20260423T082457
CREATED:20250520T180633Z
LAST-MODIFIED:20250714T190236Z
UID:10004895-1754208000-1754211600@churchoftheholytrinity.org
SUMMARY:8:00am Morning Prayer
DESCRIPTION:8:00am Morning Prayer in the chapel
URL:https://churchoftheholytrinity.org/event/800am-morning-prayer-2/2025-08-03/
LOCATION:MS
END:VEVENT
BEGIN:VEVENT
DTSTART;TZID=America/Chicago:20250729T130000
DTEND;TZID=America/Chicago:20250729T140000
DTSTAMP:20260423T082457
CREATED:20240303T214412Z
LAST-MODIFIED:20240303T214412Z
UID:10002316-1753794000-1753797600@churchoftheholytrinity.org
SUMMARY:After Lunch Bunch (Ladies Group)
DESCRIPTION:Prayer/fellowship group for ladies which gathers ‘after lunch’ at 1pm.
URL:https://churchoftheholytrinity.org/event/after-lunch-bunch-ladies-group/2025-07-29/
LOCATION:Church of the Holy Trinity Chapel\, 900 South St\, Vicksburg\, MS\, 39180\, United States
CATEGORIES:Parish Calendar
END:VEVENT
BEGIN:VEVENT
DTSTART;TZID=America/Chicago:20250727T101500
DTEND;TZID=America/Chicago:20250727T111500
DTSTAMP:20260423T082457
CREATED:20250520T180744Z
LAST-MODIFIED:20250714T173055Z
UID:10004904-1753611300-1753614900@churchoftheholytrinity.org
SUMMARY:10:15am morning prayer
DESCRIPTION:10:15am morning prayer in the Nave
URL:https://churchoftheholytrinity.org/event/1015am-morning-prayer-2/2025-07-27/
LOCATION:MS
END:VEVENT
BEGIN:VEVENT
DTSTART;TZID=America/Chicago:20250727T100000
DTEND;TZID=America/Chicago:20250727T120000
DTSTAMP:20260423T082457
CREATED:20240725T151130Z
LAST-MODIFIED:20250808T153037Z
UID:10002673-1753610400-1753617600@churchoftheholytrinity.org
SUMMARY:10:00am Church Nursery Opens
DESCRIPTION:Our Church Nursery is Staffed and Available to All Children 5 & Under Whose Parents Are Attending Our Services.
URL:https://churchoftheholytrinity.org/event/church-nursery-is-open/2025-07-27/
LOCATION:Church of the Holy Trinity Parish Hall\, 900 South St\, Vicksburg\, MS\, 39180\, United States
CATEGORIES:Parish Calendar
END:VEVENT
BEGIN:VEVENT
DTSTART;TZID=America/Chicago:20250727T080000
DTEND;TZID=America/Chicago:20250727T090000
DTSTAMP:20260423T082457
CREATED:20250520T180633Z
LAST-MODIFIED:20250714T190236Z
UID:10004894-1753603200-1753606800@churchoftheholytrinity.org
SUMMARY:8:00am Morning Prayer
DESCRIPTION:8:00am Morning Prayer in the chapel
URL:https://churchoftheholytrinity.org/event/800am-morning-prayer-2/2025-07-27/
LOCATION:MS
END:VEVENT
BEGIN:VEVENT
DTSTART;TZID=America/Chicago:20250722T130000
DTEND;TZID=America/Chicago:20250722T140000
DTSTAMP:20260423T082457
CREATED:20240303T214412Z
LAST-MODIFIED:20240303T214412Z
UID:10002315-1753189200-1753192800@churchoftheholytrinity.org
SUMMARY:After Lunch Bunch (Ladies Group)
DESCRIPTION:Prayer/fellowship group for ladies which gathers ‘after lunch’ at 1pm.
URL:https://churchoftheholytrinity.org/event/after-lunch-bunch-ladies-group/2025-07-22/
LOCATION:Church of the Holy Trinity Chapel\, 900 South St\, Vicksburg\, MS\, 39180\, United States
CATEGORIES:Parish Calendar
END:VEVENT
BEGIN:VEVENT
DTSTART;TZID=America/Chicago:20250720T101500
DTEND;TZID=America/Chicago:20250720T113000
DTSTAMP:20260423T082457
CREATED:20250527T163036Z
LAST-MODIFIED:20250527T164006Z
UID:10002951-1753006500-1753011000@churchoftheholytrinity.org
SUMMARY:10:15am Children's Sunday School
DESCRIPTION:During 10:15am Service\,   Children will gather upstairs with their leaders and return just prior to communion.  (Parents of 5 year-olds may choose whether to have their children attend Sunday School or Nursery).
URL:https://churchoftheholytrinity.org/event/childrens-church-1st-3rd-sundays-2-2/2025-07-20/
LOCATION:Church of the Holy Trinity Nave\, 900 South St\, Vicksburg\, MS\, 39180\, United States
CATEGORIES:Parish Calendar
END:VEVENT
BEGIN:VEVENT
DTSTART;TZID=America/Chicago:20250720T100000
DTEND;TZID=America/Chicago:20250720T120000
DTSTAMP:20260423T082457
CREATED:20240725T151130Z
LAST-MODIFIED:20250808T153037Z
UID:10002672-1753005600-1753012800@churchoftheholytrinity.org
SUMMARY:10:00am Church Nursery Opens
DESCRIPTION:Our Church Nursery is Staffed and Available to All Children 5 & Under Whose Parents Are Attending Our Services.
URL:https://churchoftheholytrinity.org/event/church-nursery-is-open/2025-07-20/
LOCATION:Church of the Holy Trinity Parish Hall\, 900 South St\, Vicksburg\, MS\, 39180\, United States
CATEGORIES:Parish Calendar
END:VEVENT
BEGIN:VEVENT
DTSTART;TZID=America/Chicago:20250715T130000
DTEND;TZID=America/Chicago:20250715T140000
DTSTAMP:20260423T082457
CREATED:20240303T214412Z
LAST-MODIFIED:20240303T214412Z
UID:10002314-1752584400-1752588000@churchoftheholytrinity.org
SUMMARY:After Lunch Bunch (Ladies Group)
DESCRIPTION:Prayer/fellowship group for ladies which gathers ‘after lunch’ at 1pm.
URL:https://churchoftheholytrinity.org/event/after-lunch-bunch-ladies-group/2025-07-15/
LOCATION:Church of the Holy Trinity Chapel\, 900 South St\, Vicksburg\, MS\, 39180\, United States
CATEGORIES:Parish Calendar
END:VEVENT
BEGIN:VEVENT
DTSTART;TZID=America/Chicago:20250713T100000
DTEND;TZID=America/Chicago:20250713T120000
DTSTAMP:20260423T082457
CREATED:20240725T151130Z
LAST-MODIFIED:20250808T153037Z
UID:10002671-1752400800-1752408000@churchoftheholytrinity.org
SUMMARY:10:00am Church Nursery Opens
DESCRIPTION:Our Church Nursery is Staffed and Available to All Children 5 & Under Whose Parents Are Attending Our Services.
URL:https://churchoftheholytrinity.org/event/church-nursery-is-open/2025-07-13/
LOCATION:Church of the Holy Trinity Parish Hall\, 900 South St\, Vicksburg\, MS\, 39180\, United States
CATEGORIES:Parish Calendar
END:VEVENT
BEGIN:VEVENT
DTSTART;TZID=America/Chicago:20250713T080000
DTEND;TZID=America/Chicago:20250713T090000
DTSTAMP:20260423T082457
CREATED:20250520T180238Z
LAST-MODIFIED:20250520T180238Z
UID:10004880-1752393600-1752397200@churchoftheholytrinity.org
SUMMARY:8am Holy Eucharist
DESCRIPTION:8:00am Holy Eucharist  in the chapel
URL:https://churchoftheholytrinity.org/event/8am-holy-eucharist/2025-07-13/
LOCATION:Church of the Holy Trinity Chapel\, 900 South St\, Vicksburg\, MS\, 39180\, United States
CATEGORIES:Parish Calendar
END:VEVENT
BEGIN:VEVENT
DTSTART;TZID=America/Chicago:20250708T170000
DTEND;TZID=America/Chicago:20250708T180000
DTSTAMP:20260423T082457
CREATED:20240418T162125Z
LAST-MODIFIED:20240418T162344Z
UID:10002522-1751994000-1751997600@churchoftheholytrinity.org
SUMMARY:5pm Daughters of the King
DESCRIPTION:
URL:https://churchoftheholytrinity.org/event/5pm-daughters-of-the-king-2/2025-07-08/
LOCATION:Church of the Holy Trinity Chapel\, 900 South St\, Vicksburg\, MS\, 39180\, United States
CATEGORIES:Parish Calendar
END:VEVENT
END:VCALENDAR