BEGIN:VCALENDAR
VERSION:2.0
PRODID:-//The Church of the Holy Trinity - ECPv6.8.0//NONSGML v1.0//EN
CALSCALE:GREGORIAN
METHOD:PUBLISH
X-WR-CALNAME:The Church of the Holy Trinity
X-ORIGINAL-URL:https://churchoftheholytrinity.org
X-WR-CALDESC:Events for The Church of the Holy Trinity
REFRESH-INTERVAL;VALUE=DURATION:PT1H
X-Robots-Tag:noindex
X-PUBLISHED-TTL:PT1H
BEGIN:VTIMEZONE
TZID:America/Chicago
BEGIN:DAYLIGHT
TZOFFSETFROM:-0600
TZOFFSETTO:-0500
TZNAME:CDT
DTSTART:20250309T080000
END:DAYLIGHT
BEGIN:STANDARD
TZOFFSETFROM:-0500
TZOFFSETTO:-0600
TZNAME:CST
DTSTART:20251102T070000
END:STANDARD
BEGIN:DAYLIGHT
TZOFFSETFROM:-0600
TZOFFSETTO:-0500
TZNAME:CDT
DTSTART:20260308T080000
END:DAYLIGHT
BEGIN:STANDARD
TZOFFSETFROM:-0500
TZOFFSETTO:-0600
TZNAME:CST
DTSTART:20261101T070000
END:STANDARD
END:VTIMEZONE
BEGIN:VEVENT
DTSTART;TZID=America/Chicago:20260125T100000
DTEND;TZID=America/Chicago:20260125T120000
DTSTAMP:20260419T085634
CREATED:20250808T153859Z
LAST-MODIFIED:20250808T153901Z
UID:10002699-1769335200-1769342400@churchoftheholytrinity.org
SUMMARY:10:00am Church Nursery Opens
DESCRIPTION:Our Church Nursery is Staffed and Available to All Children 5 & Under Whose Parents Are Attending Our Services.
URL:https://churchoftheholytrinity.org/event/church-nursery-is-open-2/2026-01-25/
LOCATION:Church of the Holy Trinity Parish Hall\, 900 South St\, Vicksburg\, MS\, 39180\, United States
CATEGORIES:Parish Calendar
END:VEVENT
BEGIN:VEVENT
DTSTART;TZID=America/Chicago:20260120T130000
DTEND;TZID=America/Chicago:20260120T140000
DTSTAMP:20260419T085634
CREATED:20240303T214412Z
LAST-MODIFIED:20240303T214412Z
UID:10002341-1768914000-1768917600@churchoftheholytrinity.org
SUMMARY:After Lunch Bunch (Ladies Group)
DESCRIPTION:Prayer/fellowship group for ladies which gathers ‘after lunch’ at 1pm.
URL:https://churchoftheholytrinity.org/event/after-lunch-bunch-ladies-group/2026-01-20/
LOCATION:Church of the Holy Trinity Chapel\, 900 South St\, Vicksburg\, MS\, 39180\, United States
CATEGORIES:Parish Calendar
END:VEVENT
BEGIN:VEVENT
DTSTART;TZID=America/Chicago:20260118T100000
DTEND;TZID=America/Chicago:20260118T120000
DTSTAMP:20260419T085634
CREATED:20250808T153859Z
LAST-MODIFIED:20250808T153901Z
UID:10002698-1768730400-1768737600@churchoftheholytrinity.org
SUMMARY:10:00am Church Nursery Opens
DESCRIPTION:Our Church Nursery is Staffed and Available to All Children 5 & Under Whose Parents Are Attending Our Services.
URL:https://churchoftheholytrinity.org/event/church-nursery-is-open-2/2026-01-18/
LOCATION:Church of the Holy Trinity Parish Hall\, 900 South St\, Vicksburg\, MS\, 39180\, United States
CATEGORIES:Parish Calendar
END:VEVENT
BEGIN:VEVENT
DTSTART;TZID=America/Chicago:20260114T173000
DTEND;TZID=America/Chicago:20260114T193000
DTSTAMP:20260419T085634
CREATED:20250516T174353Z
LAST-MODIFIED:20250516T174354Z
UID:10003135-1768411800-1768419000@churchoftheholytrinity.org
SUMMARY:Family Evenings!
DESCRIPTION:Every 2nd Wednesday of the Month!  We will gather at 5:30pm with music and visit\, eat\, and divide into age-appropriate groups for a program.
URL:https://churchoftheholytrinity.org/event/family-night-wonderful-wednesday-every-2nd-wednesday-2-2/2026-01-14/
CATEGORIES:Parish Calendar
END:VEVENT
BEGIN:VEVENT
DTSTART;TZID=America/Chicago:20260113T170000
DTEND;TZID=America/Chicago:20260113T180000
DTSTAMP:20260419T085634
CREATED:20240418T162125Z
LAST-MODIFIED:20240418T162344Z
UID:10002528-1768323600-1768327200@churchoftheholytrinity.org
SUMMARY:5pm Daughters of the King
DESCRIPTION:
URL:https://churchoftheholytrinity.org/event/5pm-daughters-of-the-king-2/2026-01-13/
LOCATION:Church of the Holy Trinity Chapel\, 900 South St\, Vicksburg\, MS\, 39180\, United States
CATEGORIES:Parish Calendar
END:VEVENT
BEGIN:VEVENT
DTSTART;TZID=America/Chicago:20260113T130000
DTEND;TZID=America/Chicago:20260113T140000
DTSTAMP:20260419T085634
CREATED:20240303T214412Z
LAST-MODIFIED:20240303T214412Z
UID:10002340-1768309200-1768312800@churchoftheholytrinity.org
SUMMARY:After Lunch Bunch (Ladies Group)
DESCRIPTION:Prayer/fellowship group for ladies which gathers ‘after lunch’ at 1pm.
URL:https://churchoftheholytrinity.org/event/after-lunch-bunch-ladies-group/2026-01-13/
LOCATION:Church of the Holy Trinity Chapel\, 900 South St\, Vicksburg\, MS\, 39180\, United States
CATEGORIES:Parish Calendar
END:VEVENT
BEGIN:VEVENT
DTSTART;TZID=America/Chicago:20260111T100000
DTEND;TZID=America/Chicago:20260111T120000
DTSTAMP:20260419T085634
CREATED:20250808T153859Z
LAST-MODIFIED:20250808T153901Z
UID:10002697-1768125600-1768132800@churchoftheholytrinity.org
SUMMARY:10:00am Church Nursery Opens
DESCRIPTION:Our Church Nursery is Staffed and Available to All Children 5 & Under Whose Parents Are Attending Our Services.
URL:https://churchoftheholytrinity.org/event/church-nursery-is-open-2/2026-01-11/
LOCATION:Church of the Holy Trinity Parish Hall\, 900 South St\, Vicksburg\, MS\, 39180\, United States
CATEGORIES:Parish Calendar
END:VEVENT
BEGIN:VEVENT
DTSTART;TZID=America/Chicago:20260106T130000
DTEND;TZID=America/Chicago:20260106T140000
DTSTAMP:20260419T085634
CREATED:20240303T214412Z
LAST-MODIFIED:20240303T214412Z
UID:10002339-1767704400-1767708000@churchoftheholytrinity.org
SUMMARY:After Lunch Bunch (Ladies Group)
DESCRIPTION:Prayer/fellowship group for ladies which gathers ‘after lunch’ at 1pm.
URL:https://churchoftheholytrinity.org/event/after-lunch-bunch-ladies-group/2026-01-06/
LOCATION:Church of the Holy Trinity Chapel\, 900 South St\, Vicksburg\, MS\, 39180\, United States
CATEGORIES:Parish Calendar
END:VEVENT
BEGIN:VEVENT
DTSTART;TZID=America/Chicago:20260104T100000
DTEND;TZID=America/Chicago:20260104T120000
DTSTAMP:20260419T085634
CREATED:20250808T153859Z
LAST-MODIFIED:20250808T153901Z
UID:10002696-1767520800-1767528000@churchoftheholytrinity.org
SUMMARY:10:00am Church Nursery Opens
DESCRIPTION:Our Church Nursery is Staffed and Available to All Children 5 & Under Whose Parents Are Attending Our Services.
URL:https://churchoftheholytrinity.org/event/church-nursery-is-open-2/2026-01-04/
LOCATION:Church of the Holy Trinity Parish Hall\, 900 South St\, Vicksburg\, MS\, 39180\, United States
CATEGORIES:Parish Calendar
END:VEVENT
BEGIN:VEVENT
DTSTART;TZID=America/Chicago:20251230T130000
DTEND;TZID=America/Chicago:20251230T140000
DTSTAMP:20260419T085634
CREATED:20240303T214412Z
LAST-MODIFIED:20240303T214412Z
UID:10002338-1767099600-1767103200@churchoftheholytrinity.org
SUMMARY:After Lunch Bunch (Ladies Group)
DESCRIPTION:Prayer/fellowship group for ladies which gathers ‘after lunch’ at 1pm.
URL:https://churchoftheholytrinity.org/event/after-lunch-bunch-ladies-group/2025-12-30/
LOCATION:Church of the Holy Trinity Chapel\, 900 South St\, Vicksburg\, MS\, 39180\, United States
CATEGORIES:Parish Calendar
END:VEVENT
BEGIN:VEVENT
DTSTART;TZID=America/Chicago:20251228T100000
DTEND;TZID=America/Chicago:20251228T120000
DTSTAMP:20260419T085634
CREATED:20250808T153859Z
LAST-MODIFIED:20250808T153901Z
UID:10002695-1766916000-1766923200@churchoftheholytrinity.org
SUMMARY:10:00am Church Nursery Opens
DESCRIPTION:Our Church Nursery is Staffed and Available to All Children 5 & Under Whose Parents Are Attending Our Services.
URL:https://churchoftheholytrinity.org/event/church-nursery-is-open-2/2025-12-28/
LOCATION:Church of the Holy Trinity Parish Hall\, 900 South St\, Vicksburg\, MS\, 39180\, United States
CATEGORIES:Parish Calendar
END:VEVENT
BEGIN:VEVENT
DTSTART;TZID=America/Chicago:20251228T080000
DTEND;TZID=America/Chicago:20251228T090000
DTSTAMP:20260419T085634
CREATED:20251010T153517Z
LAST-MODIFIED:20251121T154558Z
UID:10005405-1766908800-1766912400@churchoftheholytrinity.org
SUMMARY:8:00am morning prayer
DESCRIPTION:8:00am morning prayer in the Nave
URL:https://churchoftheholytrinity.org/event/1015am-morning-prayer-2-3/2025-12-28/
END:VEVENT
BEGIN:VEVENT
DTSTART;TZID=America/Chicago:20251223T130000
DTEND;TZID=America/Chicago:20251223T140000
DTSTAMP:20260419T085634
CREATED:20240303T214412Z
LAST-MODIFIED:20240303T214412Z
UID:10002337-1766494800-1766498400@churchoftheholytrinity.org
SUMMARY:After Lunch Bunch (Ladies Group)
DESCRIPTION:Prayer/fellowship group for ladies which gathers ‘after lunch’ at 1pm.
URL:https://churchoftheholytrinity.org/event/after-lunch-bunch-ladies-group/2025-12-23/
LOCATION:Church of the Holy Trinity Chapel\, 900 South St\, Vicksburg\, MS\, 39180\, United States
CATEGORIES:Parish Calendar
END:VEVENT
BEGIN:VEVENT
DTSTART;TZID=America/Chicago:20251221T101500
DTEND;TZID=America/Chicago:20251221T113000
DTSTAMP:20260419T085634
CREATED:20250808T145734Z
LAST-MODIFIED:20250808T145737Z
UID:10002956-1766312100-1766316600@churchoftheholytrinity.org
SUMMARY:10:15am Children's Sunday School
DESCRIPTION:During 10:15am Service\,   Children will gather upstairs with their leaders and return just prior to communion.  (Parents of 5 year-olds may choose whether to have their children attend Sunday School or Nursery).
URL:https://churchoftheholytrinity.org/event/childrens-church-1st-3rd-sundays-2-2-2/2025-12-21/
LOCATION:Church of the Holy Trinity Nave\, 900 South St\, Vicksburg\, MS\, 39180\, United States
CATEGORIES:Parish Calendar
END:VEVENT
BEGIN:VEVENT
DTSTART;TZID=America/Chicago:20251221T101500
DTEND;TZID=America/Chicago:20251221T111500
DTSTAMP:20260419T085634
CREATED:20251010T152910Z
LAST-MODIFIED:20251010T155221Z
UID:10005403-1766312100-1766315700@churchoftheholytrinity.org
SUMMARY:10:15am morning prayer
DESCRIPTION:10:15am morning prayer in the Nave
URL:https://churchoftheholytrinity.org/event/1015am-morning-prayer-2-2/2025-12-21/
END:VEVENT
BEGIN:VEVENT
DTSTART;TZID=America/Chicago:20251221T100000
DTEND;TZID=America/Chicago:20251221T120000
DTSTAMP:20260419T085634
CREATED:20250808T153859Z
LAST-MODIFIED:20250808T153901Z
UID:10002694-1766311200-1766318400@churchoftheholytrinity.org
SUMMARY:10:00am Church Nursery Opens
DESCRIPTION:Our Church Nursery is Staffed and Available to All Children 5 & Under Whose Parents Are Attending Our Services.
URL:https://churchoftheholytrinity.org/event/church-nursery-is-open-2/2025-12-21/
LOCATION:Church of the Holy Trinity Parish Hall\, 900 South St\, Vicksburg\, MS\, 39180\, United States
CATEGORIES:Parish Calendar
END:VEVENT
BEGIN:VEVENT
DTSTART;TZID=America/Chicago:20251221T080000
DTEND;TZID=America/Chicago:20251221T090000
DTSTAMP:20260419T085635
CREATED:20251010T153517Z
LAST-MODIFIED:20251121T154558Z
UID:10005404-1766304000-1766307600@churchoftheholytrinity.org
SUMMARY:8:00am morning prayer
DESCRIPTION:8:00am morning prayer in the Nave
URL:https://churchoftheholytrinity.org/event/1015am-morning-prayer-2-3/2025-12-21/
END:VEVENT
BEGIN:VEVENT
DTSTART;TZID=America/Chicago:20251216T130000
DTEND;TZID=America/Chicago:20251216T140000
DTSTAMP:20260419T085635
CREATED:20240303T214412Z
LAST-MODIFIED:20240303T214412Z
UID:10002336-1765890000-1765893600@churchoftheholytrinity.org
SUMMARY:After Lunch Bunch (Ladies Group)
DESCRIPTION:Prayer/fellowship group for ladies which gathers ‘after lunch’ at 1pm.
URL:https://churchoftheholytrinity.org/event/after-lunch-bunch-ladies-group/2025-12-16/
LOCATION:Church of the Holy Trinity Chapel\, 900 South St\, Vicksburg\, MS\, 39180\, United States
CATEGORIES:Parish Calendar
END:VEVENT
BEGIN:VEVENT
DTSTART;TZID=America/Chicago:20251214T101500
DTEND;TZID=America/Chicago:20251214T111500
DTSTAMP:20260419T085635
CREATED:20250808T144904Z
LAST-MODIFIED:20251010T154222Z
UID:10005390-1765707300-1765710900@churchoftheholytrinity.org
SUMMARY:10:15am Holy Eucharist
DESCRIPTION:10:15am Holy Eucharist in the Nave
URL:https://churchoftheholytrinity.org/event/1015am-holy-eucharist-3/2025-12-14/
CATEGORIES:Parish Calendar
END:VEVENT
BEGIN:VEVENT
DTSTART;TZID=America/Chicago:20251214T100000
DTEND;TZID=America/Chicago:20251214T120000
DTSTAMP:20260419T085635
CREATED:20250808T153859Z
LAST-MODIFIED:20250808T153901Z
UID:10002693-1765706400-1765713600@churchoftheholytrinity.org
SUMMARY:10:00am Church Nursery Opens
DESCRIPTION:Our Church Nursery is Staffed and Available to All Children 5 & Under Whose Parents Are Attending Our Services.
URL:https://churchoftheholytrinity.org/event/church-nursery-is-open-2/2025-12-14/
LOCATION:Church of the Holy Trinity Parish Hall\, 900 South St\, Vicksburg\, MS\, 39180\, United States
CATEGORIES:Parish Calendar
END:VEVENT
BEGIN:VEVENT
DTSTART;TZID=America/Chicago:20251214T080000
DTEND;TZID=America/Chicago:20251214T090000
DTSTAMP:20260419T085635
CREATED:20250808T145153Z
LAST-MODIFIED:20251010T154329Z
UID:10005393-1765699200-1765702800@churchoftheholytrinity.org
SUMMARY:8:00am Holy Eucharist
DESCRIPTION:8:00am Holy Eucharist  in the nave
URL:https://churchoftheholytrinity.org/event/8am-holy-eucharist-2/2025-12-14/
LOCATION:Church of the Holy Trinity Chapel\, 900 South St\, Vicksburg\, MS\, 39180\, United States
CATEGORIES:Parish Calendar
END:VEVENT
BEGIN:VEVENT
DTSTART;TZID=America/Chicago:20251210T173000
DTEND;TZID=America/Chicago:20251210T193000
DTSTAMP:20260419T085635
CREATED:20250516T174353Z
LAST-MODIFIED:20250516T174354Z
UID:10003134-1765387800-1765395000@churchoftheholytrinity.org
SUMMARY:Family Evenings!
DESCRIPTION:Every 2nd Wednesday of the Month!  We will gather at 5:30pm with music and visit\, eat\, and divide into age-appropriate groups for a program.
URL:https://churchoftheholytrinity.org/event/family-night-wonderful-wednesday-every-2nd-wednesday-2-2/2025-12-10/
CATEGORIES:Parish Calendar
END:VEVENT
BEGIN:VEVENT
DTSTART;TZID=America/Chicago:20251210T173000
DTEND;TZID=America/Chicago:20251210T190000
DTSTAMP:20260419T085635
CREATED:20251121T155706Z
LAST-MODIFIED:20251121T155706Z
UID:10005406-1765387800-1765393200@churchoftheholytrinity.org
SUMMARY:Wednesday night supper
DESCRIPTION:join us for our monthly wednesday night supper in the parish hall! Our choir will be hosting and peforming. Bishop Dorothy Wells will be present to bless our new conservatory and youth room spaces!
URL:https://churchoftheholytrinity.org/event/wednesday-night-supper/
END:VEVENT
BEGIN:VEVENT
DTSTART;TZID=America/Chicago:20251209T170000
DTEND;TZID=America/Chicago:20251209T180000
DTSTAMP:20260419T085635
CREATED:20240418T162125Z
LAST-MODIFIED:20240418T162344Z
UID:10002527-1765299600-1765303200@churchoftheholytrinity.org
SUMMARY:5pm Daughters of the King
DESCRIPTION:
URL:https://churchoftheholytrinity.org/event/5pm-daughters-of-the-king-2/2025-12-09/
LOCATION:Church of the Holy Trinity Chapel\, 900 South St\, Vicksburg\, MS\, 39180\, United States
CATEGORIES:Parish Calendar
END:VEVENT
BEGIN:VEVENT
DTSTART;TZID=America/Chicago:20251209T130000
DTEND;TZID=America/Chicago:20251209T140000
DTSTAMP:20260419T085635
CREATED:20240303T214412Z
LAST-MODIFIED:20240303T214412Z
UID:10002335-1765285200-1765288800@churchoftheholytrinity.org
SUMMARY:After Lunch Bunch (Ladies Group)
DESCRIPTION:Prayer/fellowship group for ladies which gathers ‘after lunch’ at 1pm.
URL:https://churchoftheholytrinity.org/event/after-lunch-bunch-ladies-group/2025-12-09/
LOCATION:Church of the Holy Trinity Chapel\, 900 South St\, Vicksburg\, MS\, 39180\, United States
CATEGORIES:Parish Calendar
END:VEVENT
BEGIN:VEVENT
DTSTART;TZID=America/Chicago:20251207T101500
DTEND;TZID=America/Chicago:20251207T113000
DTSTAMP:20260419T085635
CREATED:20250808T145734Z
LAST-MODIFIED:20250808T145737Z
UID:10002897-1765102500-1765107000@churchoftheholytrinity.org
SUMMARY:10:15am Children's Sunday School
DESCRIPTION:During 10:15am Service\,   Children will gather upstairs with their leaders and return just prior to communion.  (Parents of 5 year-olds may choose whether to have their children attend Sunday School or Nursery).
URL:https://churchoftheholytrinity.org/event/childrens-church-1st-3rd-sundays-2-2-2/2025-12-07/
LOCATION:Church of the Holy Trinity Nave\, 900 South St\, Vicksburg\, MS\, 39180\, United States
CATEGORIES:Parish Calendar
END:VEVENT
BEGIN:VEVENT
DTSTART;TZID=America/Chicago:20251207T101500
DTEND;TZID=America/Chicago:20251207T111500
DTSTAMP:20260419T085635
CREATED:20251010T152910Z
LAST-MODIFIED:20251010T155221Z
UID:10005402-1765102500-1765106100@churchoftheholytrinity.org
SUMMARY:10:15am morning prayer
DESCRIPTION:10:15am morning prayer in the Nave
URL:https://churchoftheholytrinity.org/event/1015am-morning-prayer-2-2/2025-12-07/
END:VEVENT
BEGIN:VEVENT
DTSTART;TZID=America/Chicago:20251207T100000
DTEND;TZID=America/Chicago:20251207T120000
DTSTAMP:20260419T085635
CREATED:20250808T153859Z
LAST-MODIFIED:20250808T153901Z
UID:10002692-1765101600-1765108800@churchoftheholytrinity.org
SUMMARY:10:00am Church Nursery Opens
DESCRIPTION:Our Church Nursery is Staffed and Available to All Children 5 & Under Whose Parents Are Attending Our Services.
URL:https://churchoftheholytrinity.org/event/church-nursery-is-open-2/2025-12-07/
LOCATION:Church of the Holy Trinity Parish Hall\, 900 South St\, Vicksburg\, MS\, 39180\, United States
CATEGORIES:Parish Calendar
END:VEVENT
BEGIN:VEVENT
DTSTART;TZID=America/Chicago:20251207T080000
DTEND;TZID=America/Chicago:20251207T090000
DTSTAMP:20260419T085635
CREATED:20251010T153517Z
LAST-MODIFIED:20251121T154558Z
UID:10005398-1765094400-1765098000@churchoftheholytrinity.org
SUMMARY:8:00am morning prayer
DESCRIPTION:8:00am morning prayer in the Nave
URL:https://churchoftheholytrinity.org/event/1015am-morning-prayer-2-3/2025-12-07/
END:VEVENT
BEGIN:VEVENT
DTSTART;TZID=America/Chicago:20251202T130000
DTEND;TZID=America/Chicago:20251202T140000
DTSTAMP:20260419T085635
CREATED:20240303T214412Z
LAST-MODIFIED:20240303T214412Z
UID:10002334-1764680400-1764684000@churchoftheholytrinity.org
SUMMARY:After Lunch Bunch (Ladies Group)
DESCRIPTION:Prayer/fellowship group for ladies which gathers ‘after lunch’ at 1pm.
URL:https://churchoftheholytrinity.org/event/after-lunch-bunch-ladies-group/2025-12-02/
LOCATION:Church of the Holy Trinity Chapel\, 900 South St\, Vicksburg\, MS\, 39180\, United States
CATEGORIES:Parish Calendar
END:VEVENT
END:VCALENDAR